BEGIN:VCALENDAR
VERSION:2.0
PRODID:-//King&#039;s College School - ECPv5.3.2.1//NONSGML v1.0//EN
CALSCALE:GREGORIAN
METHOD:PUBLISH
X-WR-CALNAME:King&#039;s College School
X-ORIGINAL-URL:https://kingscollegeschool.ca
X-WR-CALDESC:Events for King&#039;s College School
BEGIN:VTIMEZONE
TZID:UTC
BEGIN:STANDARD
TZOFFSETFROM:+0000
TZOFFSETTO:+0000
TZNAME:UTC
DTSTART:20210101T000000
END:STANDARD
END:VTIMEZONE
BEGIN:VEVENT
DTSTART;VALUE=DATE:20211104
DTEND;VALUE=DATE:20211105
DTSTAMP:20260420T050714
CREATED:20211104T215602Z
LAST-MODIFIED:20211104T215602Z
UID:1936-1635984000-1636070399@kingscollegeschool.ca
SUMMARY:Diwali
DESCRIPTION:
URL:https://kingscollegeschool.ca/event/diwali/
END:VEVENT
END:VCALENDAR