BEGIN:VCALENDAR
VERSION:2.0
PRODID:-//King&#039;s College School - ECPv5.3.2.1//NONSGML v1.0//EN
CALSCALE:GREGORIAN
METHOD:PUBLISH
X-WR-CALNAME:King&#039;s College School
X-ORIGINAL-URL:https://kingscollegeschool.ca
X-WR-CALDESC:Events for King&#039;s College School
BEGIN:VTIMEZONE
TZID:UTC
BEGIN:STANDARD
TZOFFSETFROM:+0000
TZOFFSETTO:+0000
TZNAME:UTC
DTSTART:20220101T000000
END:STANDARD
END:VTIMEZONE
BEGIN:VEVENT
DTSTART;VALUE=DATE:20220117
DTEND;VALUE=DATE:20220118
DTSTAMP:20260421T210731
CREATED:20210623T025542Z
LAST-MODIFIED:20210623T025542Z
UID:1522-1642377600-1642463999@kingscollegeschool.ca
SUMMARY:First Term Report Cards
DESCRIPTION:First term report cards will be going out. Parent/teacher interviews to follow!
URL:https://kingscollegeschool.ca/event/first-term-report-cards-2/
END:VEVENT
END:VCALENDAR